BEGIN:VCALENDAR
PRODID:-//eluceo/ical//2.0/EN
VERSION:2.0
CALSCALE:GREGORIAN
BEGIN:VEVENT
UID:e5c698bf48ecfd6f9c714104729bfe13
DTSTAMP:20260420T125730Z
SUMMARY:Plauderlunch
DESCRIPTION:
URL:https://kuesnacht-zuerich.rotary2000.ch/fr/agenda/show/96414
DTSTART;TZID=Europe/Zurich:20190221T000000
DTEND;TZID=Europe/Zurich:20190221T000000
LOCATION:Hotel Sonne
CATEGORIES:Rotary
END:VEVENT
BEGIN:VTIMEZONE
TZID:Europe/Zurich
BEGIN:STANDARD
DTSTART:20190221T000000
TZNAME:CET
TZOFFSETTO:+0100
TZOFFSETFROM:+0100
END:STANDARD
END:VTIMEZONE
END:VCALENDAR
